BEGIN:VCALENDAR
VERSION:2.0
METHOD:PUBLISH
PRODID:SimpleCalendar
BEGIN:VEVENT
UID:@simplecalendar-Revista Opus Habana
CATEGORIES:Otros
CLASS:PUBLIC
DTSTAMP:20191128T182305Z
CREATED:20191128T182305Z
SUMMARY:Colocación de una ofrenda floral en homenaje al 113 aniversario
DESCRIPTION:Colocación de una ofrenda floral en homenaje al 113 aniversario   / Museo  Casa Natal José Martí
LOCATION:
URL:http://opushabana.cu/index.php/component/simplecalendar/55-otros/295?Itemid=101
TRANSP:OPAQUE
DTSTART:20080519T150000Z
DTEND:20080519T150000Z
END:VEVENT
END:VCALENDAR