BEGIN:VCALENDAR
VERSION:2.0
METHOD:PUBLISH
PRODID:SimpleCalendar
BEGIN:VEVENT
UID:@simplecalendar-Revista Opus Habana
CATEGORIES:Otros
CLASS:PUBLIC
DTSTAMP:20191128T182827Z
CREATED:20191128T182827Z
SUMMARY:Homenaje a los trabajadores reconocidos con el Premio Anual de S
DESCRIPTION:Homenaje a los trabajadores reconocidos con el Premio Anual de S  / Casa Al ejandro de Humboldt
LOCATION:
URL:http://opushabana.cu/index.php/component/simplecalendar/55-otros/305?Itemid=101
TRANSP:OPAQUE
DTSTART:20080520T100000Z
DTEND:20080520T100000Z
END:VEVENT
END:VCALENDAR