BEGIN:VCALENDAR
VERSION:2.0
METHOD:PUBLISH
PRODID:SimpleCalendar
BEGIN:VEVENT
UID:@simplecalendar-Revista Opus Habana
CATEGORIES:Otros
CLASS:PUBLIC
DTSTAMP:20191128T182838Z
CREATED:20191128T182838Z
SUMMARY:Actos de entrega de los reconocimientos La puerta de Monserrat
DESCRIPTION:Actos de entrega de los reconocimientos La puerta de Monserrat  / Casa de l a Poesía
LOCATION:
URL:http://opushabana.cu/index.php/component/simplecalendar/55-otros/307?Itemid=101
TRANSP:OPAQUE
DTSTART:20080523T150000Z
DTEND:20080523T150000Z
END:VEVENT
END:VCALENDAR