BEGIN:VCALENDAR
VERSION:2.0
METHOD:PUBLISH
PRODID:SimpleCalendar
BEGIN:VEVENT
UID:@simplecalendar-Revista Opus Habana
CATEGORIES:Otros
CLASS:PUBLIC
DTSTAMP:20191128T182916Z
CREATED:20191128T182916Z
SUMMARY:Taller Iconografía de José Martí en la cultura del coleccionismo
DESCRIPTION:Taller Iconografía de José Martí en la cultura del coleccionismo  / Muse o Casa Natal José Martí
LOCATION:
URL:http://opushabana.cu/index.php/component/simplecalendar/55-otros/351?Itemid=101
TRANSP:OPAQUE
DTSTART:20080603T150000Z
DTEND:20080603T160000Z
END:VEVENT
END:VCALENDAR