BEGIN:VCALENDAR
VERSION:2.0
METHOD:PUBLISH
PRODID:SimpleCalendar
BEGIN:VEVENT
UID:@simplecalendar-Revista Opus Habana
CATEGORIES:Otros
CLASS:PUBLIC
DTSTAMP:20191128T182952Z
CREATED:20191128T182952Z
SUMMARY:Torneo scrabble Emilio Roig de Leuchsenring
DESCRIPTION:Torneo scrabble Emilio Roig de Leuchsenring  / Biblioteca Pública Rubén M artínez Villena
LOCATION:
URL:http://opushabana.cu/index.php/component/simplecalendar/55-otros/354?Itemid=101
TRANSP:OPAQUE
DTSTART:20080607T090000Z
DTEND:20080607T100000Z
END:VEVENT
END:VCALENDAR