BEGIN:VCALENDAR
VERSION:2.0
METHOD:PUBLISH
PRODID:SimpleCalendar
BEGIN:VEVENT
UID:@simplecalendar-Revista Opus Habana
CATEGORIES:Otros
CLASS:PUBLIC
DTSTAMP:20191128T182850Z
CREATED:20191128T182850Z
SUMMARY:Encuentro sobre la fiesta de la música en Francia
DESCRIPTION:Encuentro sobre la fiesta de la música en Francia  / Casa Víctor Hugo
LOCATION:
URL:http://opushabana.cu/index.php/component/simplecalendar/55-otros/356?Itemid=101
TRANSP:OPAQUE
DTSTART:20080602T143000Z
DTEND:20080602T153000Z
END:VEVENT
END:VCALENDAR