BEGIN:VCALENDAR
VERSION:2.0
METHOD:PUBLISH
PRODID:SimpleCalendar
BEGIN:VEVENT
UID:@simplecalendar-Revista Opus Habana
CATEGORIES:Otros
CLASS:PUBLIC
DTSTAMP:20191128T182928Z
CREATED:20191128T182928Z
SUMMARY:III Encuentro de Cartomagia Habana 2008
DESCRIPTION:III Encuentro de Cartomagia Habana 2008  / Museo de Naipes
LOCATION:
URL:http://opushabana.cu/index.php/component/simplecalendar/55-otros/368?Itemid=101
TRANSP:OPAQUE
DTSTART:20080604T090000Z
DTEND:20080706T170000Z
END:VEVENT
END:VCALENDAR