BEGIN:VCALENDAR
VERSION:2.0
METHOD:PUBLISH
PRODID:SimpleCalendar
BEGIN:VEVENT
UID:@simplecalendar-Revista Opus Habana
CATEGORIES:Otros
CLASS:PUBLIC
DTSTAMP:20191128T182940Z
CREATED:20191128T182940Z
SUMMARY:Gala en homenaje al  Día Mundial del Medio Ambiente
DESCRIPTION:Gala en homenaje al  Día Mundial del Medio Ambiente   / Centro Hispanoamer icano de Cultura
LOCATION:
URL:http://opushabana.cu/index.php/component/simplecalendar/55-otros/371?Itemid=101
TRANSP:OPAQUE
DTSTART:20080605T160000Z
DTEND:20080605T170000Z
END:VEVENT
END:VCALENDAR