BEGIN:VCALENDAR
VERSION:2.0
METHOD:PUBLISH
PRODID:SimpleCalendar
BEGIN:VEVENT
UID:@simplecalendar-Revista Opus Habana
CATEGORIES:Otros
CLASS:PUBLIC
DTSTAMP:20191128T182207Z
CREATED:20191128T182207Z
SUMMARY:Curso libre y de postgrado El patrimonio natural y el medio ambi
DESCRIPTION:Curso libre y de postgrado El patrimonio natural y el medio ambi  / Centro  Hispanoamericano de Cultura
LOCATION:
LAST-MODIFIED:20110330T145607Z
URL:http://opushabana.cu/index.php/component/simplecalendar/55-otros/3981-curso-libre-y-de-postgrado-el-patrimonio-natural-y-el-medio-ambi?Itemid=101
TRANSP:OPAQUE
DTSTART:20080408T093000Z
DTEND:20080701T110000Z
END:VEVENT
END:VCALENDAR