BEGIN:VCALENDAR
VERSION:2.0
METHOD:PUBLISH
PRODID:SimpleCalendar
BEGIN:VEVENT
UID:@simplecalendar-Revista Opus Habana
CATEGORIES:Otros
CLASS:PUBLIC
DTSTAMP:20191128T182151Z
CREATED:20191128T182151Z
SUMMARY:Charla Las plantas en la alimentación del adulto mayor: el limón
DESCRIPTION:Charla Las plantas en la alimentación del adulto mayor: el limón  / Casa  Alejandro de Humboldt
LOCATION:
LAST-MODIFIED:20110909T163243Z
URL:http://opushabana.cu/index.php/component/simplecalendar/55-otros/4468-charla-las-plantas-en-la-alimentacion-del-adulto-mayor-el-limon?Itemid=101
TRANSP:OPAQUE
DTSTART:20050921T100000Z
DTEND:20050921T000000Z
END:VEVENT
END:VCALENDAR