BEGIN:VCALENDAR
VERSION:2.0
METHOD:PUBLISH
PRODID:SimpleCalendar
BEGIN:VEVENT
UID:@simplecalendar-Revista Opus Habana
CATEGORIES:Otros
CLASS:PUBLIC
DTSTAMP:20191128T182156Z
CREATED:20191128T182156Z
SUMMARY:Encuentro de muñequería.
DESCRIPTION:Encuentro de muñequería.  / Casa de la Obra Pía
LOCATION:
URL:http://opushabana.cu/index.php/component/simplecalendar/55-otros/46?Itemid=101
TRANSP:OPAQUE
DTSTART:20080401T100000Z
DTEND:20080401T100000Z
END:VEVENT
END:VCALENDAR