BEGIN:VCALENDAR
VERSION:2.0
METHOD:PUBLISH
PRODID:SimpleCalendar
BEGIN:VEVENT
UID:@simplecalendar-Revista Opus Habana
CATEGORIES:Otros
CLASS:PUBLIC
DTSTAMP:20191128T182145Z
CREATED:20191128T182145Z
SUMMARY:Panel sobre Ediciones Boloña en homenaje a sus 15 años de fundada
DESCRIPTION:Panel sobre Ediciones Boloña en homenaje a sus 15 años de fundada  / Cent ro Hispanoamericano de Cultura
LOCATION:
LAST-MODIFIED:20120124T185102Z
URL:http://opushabana.cu/index.php/component/simplecalendar/55-otros/4897-panel-sobre-ediciones-bolona-en-homenaje-a-sus-15-anos-de-fundad?Itemid=101
TRANSP:OPAQUE
DTSTART:19960208T150000Z
DTEND:19960208T000000Z
END:VEVENT
END:VCALENDAR