BEGIN:VCALENDAR
VERSION:2.0
METHOD:PUBLISH
PRODID:SimpleCalendar
BEGIN:VEVENT
UID:@simplecalendar-Revista Opus Habana
CATEGORIES:Otros
CLASS:PUBLIC
DTSTAMP:20191128T182201Z
CREATED:20191128T182201Z
SUMMARY:Espacio Mirada a África
DESCRIPTION:Espacio Mirada a África  / Casa de África
LOCATION:
URL:http://opushabana.cu/index.php/component/simplecalendar/55-otros/49?Itemid=101
TRANSP:OPAQUE
DTSTART:20080402T100000Z
DTEND:20080402T100000Z
END:VEVENT
END:VCALENDAR