BEGIN:VCALENDAR
VERSION:2.0
METHOD:PUBLISH
PRODID:SimpleCalendar
BEGIN:VEVENT
UID:@simplecalendar-Revista Opus Habana
CATEGORIES:Otros
CLASS:PUBLIC
DTSTAMP:20191128T182213Z
CREATED:20191128T182213Z
SUMMARY:Reencuentro de las integrantes del Grupo Superior No. 13  del In
DESCRIPTION:Reencuentro de las integrantes del Grupo Superior No. 13  del In  / Armerí a 9 de Abril
LOCATION:
URL:http://opushabana.cu/index.php/component/simplecalendar/55-otros/81?Itemid=101
TRANSP:OPAQUE
DTSTART:20080408T100000Z
DTEND:20080408T100000Z
END:VEVENT
END:VCALENDAR