BEGIN:VCALENDAR
VERSION:2.0
METHOD:PUBLISH
PRODID:SimpleCalendar
BEGIN:VEVENT
UID:@simplecalendar-Revista Opus Habana
CATEGORIES:Otros
CLASS:PUBLIC
DTSTAMP:20191128T182223Z
CREATED:20191128T182223Z
SUMMARY:Conversatorio sobre el origen y desarrollo del patrón alimentari
DESCRIPTION:Conversatorio sobre el origen y desarrollo del patrón alimentari  / Museo  de Arte Colonial
LOCATION:
URL:http://opushabana.cu/index.php/component/simplecalendar/55-otros/84?Itemid=101
TRANSP:OPAQUE
DTSTART:20080408T100000Z
DTEND:20080408T100000Z
END:VEVENT
END:VCALENDAR