BEGIN:VCALENDAR
VERSION:2.0
METHOD:PUBLISH
PRODID:SimpleCalendar
BEGIN:VEVENT
UID:@simplecalendar-Revista Opus Habana
CATEGORIES:Otros
CLASS:PUBLIC
DTSTAMP:20191128T182230Z
CREATED:20191128T182230Z
SUMMARY:Acto tradicional por el cincuenta aniversario del asalto a la ar
DESCRIPTION:Acto tradicional por el cincuenta aniversario del asalto a la ar  / Armerí a 9 de Abril
LOCATION:
URL:http://opushabana.cu/index.php/component/simplecalendar/55-otros/86?Itemid=101
TRANSP:OPAQUE
DTSTART:20080409T110000Z
DTEND:20080409T110000Z
END:VEVENT
END:VCALENDAR